Workbook

Sheet ΦΟΡΤΙΑ ΣΕ ΚΑΤΑΚΟΡΥΦΟΥΣ ΤΟΙΧΟΥΣ
B1: ΓΕΝΙΚΑ ΣΤΟΙΧΕΙΑ | M1: Ύψος Αναφοράς ze (m)
B2: Κατηγορία Εδάφους | E2: kr | F2: z0 (m) | G2: z(min) | M2: ze=h= | N2: =C55 -> 8 | O2: m
C3: III | E3: =0.19*(F3/0.05)^0.07 -> 0.21538933 | F3: 0.3 | G3: 5 | J3: kr = 0,19 (z0/z0,II)0,07
B5: Θεμελιώδης τιμή Βασικής Ταχύτητας Ανέμου | M5: Συντελεστής Τραχύτητας cr(z)
B6: vb,0= | C6: 27 | D6: m/sec
M7: cr(z)=kr ln(z/zo) | Q7: cr(z)=kr ln(zmin/zo)
B8: Ταχύτητα Αναφοράς Ανέμου vb & Μέση Ταχύτητα Ανέμου vm(z) | M8: για zmin ≤ z ≤ zmax=200m | Q8: για z ≤ zmin
B9: vb=cdir cseason vb,0 | G9: vm(z) = cr(z) c0(z) vb | M9: cr(z)= | N9: =E3*LN(N2/F3) -> 0.70721242 | Q9: cr(z)= | R9: =E3*LN(G3/F3) -> 0.60597865
B10: cdir= | C10: 1 | G10: cr(z)= | H10: =N9 -> 0.70721242
B11: cseason= | C11: 1 | G11: c0(z)= | H11: 1 | M11: Συντελεστής Τοπογραφικής Διαμόρφωσης ct(z)
B12: vb= | C12: =C6*C10*C11 -> 27 | D12: m/sec | G12: vm(z) = | H12: =H10*H11*C12 -> 19.094735 | I12: m/sec
M13: c0= | N13: 1
B14: Πίεση Αναφοράς Ανέμου qp(z) & Ένταση στροβιλισμού lv(z) | M14: ct= | N14: 1 | O14: για Φ<0,05
B15: qp(z)=[1+7 lv(z)]1/2 ρ vm2(z) | G15: lv(z) = ki /[c0(z) ln(z/z0)] | J15: ki = | K15: 1 | M15: ct= | N15: 1+ 2sΦ | O15: για 0,05 < Φ < 0,3 | R15: με Φ = H/Lu
B16: ρ= | C16: 1.25 | D16: kg/m3 | G16: για zmin ≤ z ≤ zmax=200m | M16: ct= | N16: 1+0,6s | O16: για Φ > 0,3
B17: qp(z)= | C17: =(1+7*H17)*0.5*C16*H12^2/1000 -> 0.71370534 | D17: kN/m2 | G17: lv(z) = | H17: =K15/(H11*LN(N2/F3)) -> 0.30456101
P43: ΠΛΕΥΡΑ | Q43: ΑΝΟΙΓΜΑΤΑ (μ2)
P44: ΑΒ | Q44: 100
P45: ΒΓ | Q45: 60
P46: ΓΔ | Q46: 100
P47: ΔΑ | Q47: 60
B51: ΦΟΡΤΙΑ ΑΝΕΜΟΥ Wx+ | J51: Συντελεστές εξωτερικής πίεσης για κατακόρυφους τοίχους ορθογωνικών κτιρίων
J52: Ζώνη | K52: A | M52: B | O52: C | Q52: D | S52: E
B53: b= | C53: 40 | D53: e= | E53: =MIN(C53,C55*2) -> 16 | J53: d/h | K53: cpe,10 | L53: cpe,1 | M53: cpe,10 | N53: cpe,1 | O53: cpe,10 | P53: cpe,1 | Q53: cpe,10 | R53: cpe,1 | S53: cpe,10 | T53: cpe,1
B54: d= | C54: 25 | D54: e/5= | E54: =E53/5 -> 3.2 | J54: 5 | K54: -1.2 | L54: -1.4 | M54: -0.8 | N54: -1.1 | O54: -0.5 | Q54: 0.8 | R54: 1 | S54: -0.7
B55: h= | C55: 8 | J55: 1 | K55: -1.2 | L55: -1.4 | M55: -0.8 | N55: -1.1 | O55: -0.5 | Q55: 0.8 | R55: 1 | S55: -0.5
J56: ≤0,25 | K56: -1.2 | L56: -1.4 | M56: -0.8 | N56: -1.1 | O56: -0.5 | Q56: 0.7 | R56: 1 | S56: -0.3
B57: we=qp(z) * cpe | E57: wi=qp(z) * cpi
B58: qp(z) = | C58: =C17 -> 0.71370534 | D58: kN/m2 | E58: μ= | F58: =N66 -> 0.8125
B59: ze= | C59: =C55 -> 8 | D59: m
E60: cpi= | F60: 0.32
B61: d/h= | C61: =C54/C55 -> 3.125
D64: cpe | E64: cpi | F64: we | G64: wi | H64: w (KN/m2)
B65: ΤΟΙΧΟΙ | C65: Α | D65: =K54+(K55-K54)*((C61-J54)/(J55-J54)) -> -1.2 | E65: =F60 -> 0.32 | F65: =C58*D65 -> -0.85644641 | G65: =C58*E65 -> 0.22838571 | H65: =F65-G65 -> -1.0848321 | J65: Άνεμος πιέζει ΑΔ Επιφάνεια:
C66: B | D66: =M54+(M55-M54)*((C61-J54)/(J55-J54)) -> -0.8 | E66: =F60 -> 0.32 | F66: =C58*D66 -> -0.57096428 | G66: =C58*E66 -> 0.22838571 | H66: =F66-G66 -> -0.79934999 | J66: μΑΔ= | K66: =SUM(Q44:R46)/SUM(Q44:R47) -> 0.8125 | M66: μ= | N66: =(K66+K68)/2 -> 0.8125
C67: C | D67: =O54+(O55-O54)*((C61-J54)/(J55-J54)) -> -0.5 | E67: =F60 -> 0.32 | F67: =C58*D67 -> -0.35685267 | G67: =C58*E67 -> 0.22838571 | H67: =F67-G67 -> -0.58523838 | J67: Άνεμος πιέζει ΒΓ Επιφάνεια:
C68: D | D68: =Q54+(Q55-Q54)*((C61-J54)/(J55-J54)) -> 0.8 | E68: =F60 -> 0.32 | F68: =C58*D68 -> 0.57096428 | G68: =C58*E68 -> 0.22838571 | H68: =F68-G68 -> 0.34257857 | J68: μΒΓ= | K68: =(Q44+Q46+Q47)/SUM(Q44:R47) -> 0.8125
C69: E | D69: =S54+(S55-S54)*((C61-J54)/(J55-J54)) -> -0.60625 | E69: =F60 -> 0.32 | F69: =C58*D69 -> -0.43268387 | G69: =C58*E69 -> 0.22838571 | H69: =F69-G69 -> -0.66106958
B71: Μέση τιμή πίεσης στις επιφάνειες Α, Β, C | G71: WA,B,C=
B72: =IF(C54>=E53,"Περίπτωση d>e","Περίπτωση d<e") -> Περίπτωση d>e
...

Sheet ΦΟΡΤΙΑ ΣΕ ΔΙΚΛΙΝΕΙΣ ΣΤΕΓΕΣ
B1: ΓΕΝΙΚΑ ΣΤΟΙΧΕΙΑ | M1: Ύψος Αναφοράς ze (m)
B2: Κατηγορια Εδαφους | E2: kr | F2: z0 (m) | G2: z(min) | M2: ze=h= | N2: =C59 -> 8 | O2: m
C3: ='ΦΟΡΤΙΑ ΣΕ ΚΑΤΑΚΟΡΥΦΟΥΣ ΤΟΙΧΟΥΣ'!C3 -> III | E3: =0.19*(F3/0.05)^0.07 -> 0.21538933 | F3: ='ΦΟΡΤΙΑ ΣΕ ΚΑΤΑΚΟΡΥΦΟΥΣ ΤΟΙΧΟΥΣ'!F3 -> 0.3 | G3: ='ΦΟΡΤΙΑ ΣΕ ΚΑΤΑΚΟΡΥΦΟΥΣ ΤΟΙΧΟΥΣ'!G3 -> 5 | J3: kr = 0,19 (z0/z0,II)0,07
B5: Θεμελιώδης τιμή Βασικής Ταχύτητας Ανέμου | M5: Συντελεστής Τραχύτητας cr(z)
B6: vref,0= | C6: ='ΦΟΡΤΙΑ ΣΕ ΚΑΤΑΚΟΡΥΦΟΥΣ ΤΟΙΧΟΥΣ'!C6 -> 27 | D6: m/sec
M7: cr(z)=kr ln(z/zo) | Q7: cr(z)=kr ln(zmin/zo)
B8: Ταχύτητα Αναφοράς Ανέμου vb & Μέση Ταχύτητα Ανέμου vm(z) | M8: για zmin ≤ z ≤ zmax=200m | Q8: για z ≤ zmin
B9: vb=cdir cseason vb,0 | G9: vm(z) = cr(z) c0(z) vb | M9: cr(z)= | N9: =E3*LN(N2/F3) -> 0.70721242 | Q9: cr(z)= | R9: =E3*LN(G3/F3) -> 0.60597865
B10: cdir= | C10: 1 | G10: cr(z)= | H10: =N9 -> 0.70721242
B11: cseason= | C11: 1 | G11: c0(z)= | H11: 1
B12: vb= | C12: =C6*C10*C11 -> 27 | D12: m/sec | G12: vm(z) = | H12: =N9*H11*C12 -> 19.094735 | M12: Συντελεστής Τοπογραφικής διαμόρφωσης ct(z)
M14: c0= | N14: 1
B15: Πίεση Αναφοράς Ανέμου qp(z) & Ένταση στροβιλισμού lv(z) | M15: ct= | N15: 1 | O15: για Φ<0,05
B16: qp(z)=[1+7 lv(z)]1/2 ρ vm2(z) | G16: lv(z) = ki /[c0(z) ln(z/z0)] | J16: ki = | K16: 1 | M16: ct= | N16: 1+ 2sΦ | O16: για 0,05 < Φ < 0,3 | R16: με Φ = H/Lu
B17: ρ= | C17: 1.25 | D17: kg/m3 | G17: για zmin ≤ z ≤ zmax=200m | M17: ct= | N17: 1+0,6s | O17: για Φ > 0,3
B18: qp(z)= | C18: =(1+7*H18)*0.5*C17*H12^2/1000 -> 0.71370534 | D18: kN/m2 | G18: lv(z) = | H18: =K16/(H11*LN(N2/F3)) -> 0.30456101
P40: ΠΛΕΥΡΑ | Q40: ΑΝΟΙΓΜΑΤΑ (μ2)
P41: ΑΒ | Q41: ='ΦΟΡΤΙΑ ΣΕ ΚΑΤΑΚΟΡΥΦΟΥΣ ΤΟΙΧΟΥΣ'!Q44:R44 -> 100
P42: ΒΓ | Q42: ='ΦΟΡΤΙΑ ΣΕ ΚΑΤΑΚΟΡΥΦΟΥΣ ΤΟΙΧΟΥΣ'!Q45:R45 -> 60
P43: ΓΔ | Q43: ='ΦΟΡΤΙΑ ΣΕ ΚΑΤΑΚΟΡΥΦΟΥΣ ΤΟΙΧΟΥΣ'!Q46:R46 -> 100
P44: ΔΑ | Q44: ='ΦΟΡΤΙΑ ΣΕ ΚΑΤΑΚΟΡΥΦΟΥΣ ΤΟΙΧΟΥΣ'!Q47:R47 -> 60
B53: ΦΟΡΤΙΑ ΑΝΕΜΟΥ | J53: Συντελεστές εξωτερικής πίεσης για δικλινείς στέγες
B55: Ζώνη για διεύθυνση ανέμου Θ=00
J56: Γωνία α0 | K56: F | M56: G | O56: H | Q56: I | S56: J
B57: b= | C57: ='ΦΟΡΤΙΑ ΣΕ ΚΑΤΑΚΟΡΥΦΟΥΣ ΤΟΙΧΟΥΣ'!C53 -> 40 | D57: e= | E57: =MIN(C57,C59*2) -> 16 | K57: cpe,10 | L57: cpe,1 | M57: cpe,10 | N57: cpe,1 | O57: cpe,10 | P57: cpe,1 | Q57: cpe,10 | R57: cpe,1 | S57: cpe,10 | T57: cpe,1
B58: d= | C58: ='ΦΟΡΤΙΑ ΣΕ ΚΑΤΑΚΟΡΥΦΟΥΣ ΤΟΙΧΟΥΣ'!C54 -> 25 | D58: e/4= | E58: =E57/4 -> 4 | G58: e/2= | H58: =E57/2 -> 8 | J58: 5 | K58: -1.7 | L58: -2.5 | M58: -1.2 | N58: -2 | O58: -0.6 | P58: -1.2 | Q58: -0.6 | S58: 0.2
B59: h= | C59: ='ΦΟΡΤΙΑ ΣΕ ΚΑΤΑΚΟΡΥΦΟΥΣ ΤΟΙΧΟΥΣ'!C55 -> 8 | D59: e/10= | E59: =E57/10 -> 1.6 | J59: 15 | K59: -0.9 | L59: -2 | M59: -0.8 | N59: -1.5 | O59: -0.3 | Q59: -0.4 | S59: -1 | T59: -1.5
K60: 0.2 | M60: 0.2 | O60: 0.2
B61: we=qp(z) * cpe | E61: wi=qp(z) * cpi | J61: 30 | K61: -0.5 | L61: -1.5 | M61: -0.5 | N61: -1.5 | O61: -0.2 | Q61: -0.4 | S61: -0.5
B62: qref = | C62: ='ΦΟΡΤΙΑ ΣΕ ΚΑΤΑΚΟΡΥΦΟΥΣ ΤΟΙΧΟΥΣ'!C58 -> 0.71370534 | E62: μ= | F62: ='ΦΟΡΤΙΑ ΣΕ ΚΑΤΑΚΟΡΥΦΟΥΣ ΤΟΙΧΟΥΣ'!N66 -> 0.8125 | K62: 0.7 | M62: 0.7 | O62: 0.4
B63: ze | C63: =C59 -> 8
E64: cpi= | F64: ='ΦΟΡΤΙΑ ΣΕ ΚΑΤΑΚΟΡΥΦΟΥΣ ΤΟΙΧΟΥΣ'!F60 -> 0.32
B66: α= | C66: 30
B68: θ=0 | D68: cpe | E68: cpi | F68: we | G68: wi | H68: w (KN/m2)
B69: ΣΤΕΓΗ | C69: F | D69: =K61 -> -0.5 | E69: 0.32 | F69: =C62*D69 -> -0.35685267 | G69: =C62*E69 -> 0.22838571 | H69: =F69-G69 -> -0.58523838
C70: G | D70: =M61 -> -0.5 | E70: 0.32 | F70: =C62*D70 -> -0.35685267 | G70: =C62*F64 -> 0.22838571 | H70: =F70-G70 -> -0.58523838
C71: H | D71: =O61 -> -0.2 | E71: 0.32 | F71: =C62*D71 -> -0.14274107 | G71: =C62*E71 -> 0.22838571 | H71: =F71-G71 -> -0.37112678
C72: I | D72: =Q61 -> -0.4 | E72: 0.32 | F72: =C62*D72 -> -0.28548214 | G72: =C62*E72 -> 0.22838571 | H72: =F72-G72 -> -0.51386785
C73: J | D73: =S61 -> -0.5 | E73: 0.32 | F73: =C62*D73 -> -0.35685267 | G73: =C62*E73 -> 0.22838571 | H73: =F73-G73 -> -0.58523838
B76: Μέση τιμή πίεσης στις επιφάνειες F,G,H,I,J wF,G,H,I,J=
...

Sheet ΦΟΡΤΙΑ ΣΕ ΣΤΕΓΑΣΤΡΑ
C1: ΓΕΝΙΚΑ ΣΤΟΙΧΕΙΑ | N1: Ύψος Αναφοράς ze (m)
C2: Κατηγορια Εδαφους | F2: kr | G2: z0 (m) | H2: z(min) | N2: ze=h= | O2: =D35 -> 8.2 | P2: m
D3: ='ΦΟΡΤΙΑ ΣΕ ΚΑΤΑΚΟΡΥΦΟΥΣ ΤΟΙΧΟΥΣ'!C3 -> III | F3: ='ΦΟΡΤΙΑ ΣΕ ΚΑΤΑΚΟΡΥΦΟΥΣ ΤΟΙΧΟΥΣ'!E3 -> 0.21538933 | G3: ='ΦΟΡΤΙΑ ΣΕ ΚΑΤΑΚΟΡΥΦΟΥΣ ΤΟΙΧΟΥΣ'!F3 -> 0.3 | H3: ='ΦΟΡΤΙΑ ΣΕ ΚΑΤΑΚΟΡΥΦΟΥΣ ΤΟΙΧΟΥΣ'!G3 -> 5 | J3: kr = 0,19 (z0/z0,II)0,07
N4: Συντελεστής Τραχύτητας cr(z)
C5: Θεμελιωδης τιμή Βασικής Ταχύτητας Ανέμου
C6: vb,0= | D6: ='ΦΟΡΤΙΑ ΣΕ ΚΑΤΑΚΟΡΥΦΟΥΣ ΤΟΙΧΟΥΣ'!C6 -> 27 | E6: m/sec | N6: cr(z)=kr ln(z/zo) | R6: cr(z)=kr ln(zmin/zo)
N7: για zmin ≤ z ≤ zmax=200m | R7: για z ≤ zmin
C8: Ταχύτητα Αναφοράς Ανέμου vb & Μέση Ταχύτητα Ανέμου vm(z) | N8: cr(z)= | O8: =F3*LN(O2/G3) -> 0.71253095 | R8: cr(z)= | S8: =F3*LN(H3/G3) -> 0.60597865
C10: vb=cdir cseason vb,0 | H10: vm(z) = cr(z) c0(z) vb
C11: cdir= | D11: 1 | H11: cr(z)= | I11: =O8 -> 0.71253095 | N11: Συντελεστής Τοπογραφικής Διαμόρφωσης ct(z)
C12: cseason= | D12: 1 | H12: c0(z)= | I12: 1
C13: vb= | D13: =D6*D11*D12 -> 27 | E13: m/sec | H13: vm(z) = | I13: =I11*I12*D13 -> 19.238336 | J13: m/sec | N13: c0= | O13: 1
N14: ct= | O14: 1 | P14: για Φ<0,05
C15: Πίεση Αναφοράς Ανέμου qp(z) & Ένταση στροβιλισμού lv(z) | N15: ct= | O15: 1+ 2sΦ | P15: για 0,05 < Φ < 0,3 | S15: με Φ = H/Lu
C16: qp(z)=[1+7 lv(z)]1/2 ρ vm2(z) | H16: lv(z) = ki /[c0(z) ln(z/z0)] | K16: ki = | L16: 1 | N16: ct= | O16: 1+0,6s | P16: για Φ > 0,3
C17: ρ= | D17: 1.25 | E17: kg/m3 | H17: για zmin ≤ z ≤ zmax=200m
C18: qp(z)= | D18: =(1+7*I18)*0.5*D17*I13^2/1000 -> 0.72079934 | E18: kN/m2 | H18: lv(z) = | I18: =L16/(I12*LN(O2/G3)) -> 0.30228769
C23: ΦΟΡΤΙΑ ΣΕ ΔΙΚΛΗΝΗ ΣΤΕΓΑΣΤΡΑ | M23: d/5
C25: α | D25: φ | E25: cf | F25: Ζώνη Α | G25: Ζώνη Β | H25: Ζώνη Γ | I25: Ζώνη Δ | M25: Β | O25: b/10
C26: 5 | D26: max all φ | E26: 0.3 | F26: 0.6 | G26: 1.8 | H26: 1.3 | I26: 0.4
D27: min φ=0 | E27: -0.6 | F27: -0.6 | G27: -1.4 | H27: -1.4 | I27: -1.1
D28: min φ=1 | E28: -1.3 | F28: -1.3 | G28: -2 | H28: -1.8 | I28: -1.5
C29: 10 | D29: max all φ | E29: 0.4 | F29: 0.7 | G29: 1.8 | H29: 1.4 | I29: 0.4 | U29: h
D30: min φ=0 | E30: -0.7 | F30: -0.7 | G30: -1.5 | H30: -1.4 | I30: -1.4 | L30: C A | M30: D | N30: A C | P30: b
D31: min φ=1 | E31: -1.3 | F31: -1.3 | G31: -2 | H31: -1.8 | I31: -1.8 | K31: Φορά
K32: Ανέμου
C34: α= | D34: 10 | E34: (5 ή 10)
C35: h= | D35: 8.2 | E35: m | M35: Β | O35: b/10
C36: d= | D36: 22 | E36: m | F36: d/10= | G36: =D36/10 -> 2.2 | H36: m
C37: b= | D37: 30 | E37: m | F37: b/10= | G37: =D37/10 -> 3 | H37: m | L37: d/10 | M37: d | N37: d/10
F38: d/5= | G38: =D36/5 -> 4.4 | H38: m | R38: Όψη
C39: w= qp(z) * cpe
M40: Κάτοψη | R40: d
C41: qp(z)= | D41: =D18 -> 0.72079934 | E41: kN/m2
C44: =IF(D34=5,"Ισχύει η πρώτη/δεύτερη σειρά πινάκων","Ισχύει η τρίτη/τέταρτη σειρά πινάκων") -> Ισχύει η τρίτη/τέταρτη σειρά πινάκων
D46: Μέγιστη Πίεση Ανέμου | I46: Ελάχιστη Πίεση Ανέμου | N46: Ελάχιστη Πίεση Ανέμου
D47: Άδειο/Γεμάτο Στέγαστρο | I47: Άδειο Στέγαστρο | N47: Γεμάτο Στέγαστρο
C49: α=5 | E49: cpe | F49: w (KN/m2) | H49: α=5 | J49: cpe | K49: w (KN/m2) | M49: α=5 | O49: cpe | P49: w (KN/m2)
C50: ΣΤΕΓΑΣΤΡΟ max all φ | D50: Α | E50: =F26 -> 0.6 | F50: =D41*E50 -> 0.43247961 | H50: ΣΤΕΓΑΣΤΡΟ min Φ=0 | I50: Α | J50: =F27 -> -0.6 | K50: =D41*J50 -> -0.43247961 | M50: ΣΤΕΓΑΣΤΡΟ min Φ=1 | N50: Α | O50: =F28 -> -1.3 | P50: =D41*O50 -> -0.93703914
D51: B | E51: =G26 -> 1.8 | F51: =D41*E51 -> 1.2974388 | I51: B | J51: =G27 -> -1.4 | K51: =D41*J51 -> -1.0091191 | N51: B | O51: =G28 -> -2 | P51: =D41*O51 -> -1.4415987
...
