Workbook

Sheet ΦΟΡΤΙΑ ΣΕ ΚΑΤΑΚΟΡΥΦΟΥΣ ΤΟΙΧΟΥΣ
B1: ΓΕΝΙΚΑ ΣΤΟΙΧΕΙΑ | M1: Ύψος Αναφοράς ze (m)
B2: Κατηγορία Εδάφους | E2: kr | F2: z0 (m) | G2: z(min) | M2: ze=h= | N2: =C55 -> 8 | O2: m
C3: III | E3: =0.19*(F3/0.05)^0.07 -> 0.21538933 | F3: 0.3 | G3: 5 | J3: kr = 0,19 (z0/z0,II)0,07
B5: Θεμελιώδης τιμή Βασικής Ταχύτητας Ανέμου | M5: Συντελεστής Τραχύτητας cr(z)
B6: vb,0= | C6: 27 | D6: m/sec
M7: cr(z)=kr ln(z/zo) | Q7: cr(z)=kr ln(zmin/zo)
B8: Ταχύτητα Αναφοράς Ανέμου vb & Μέση Ταχύτητα Ανέμου vm(z) | M8: για zmin ≤ z ≤ zmax=200m | Q8: για z ≤ zmin
B9: vb=cdir cseason vb,0 | G9: vm(z) = cr(z) c0(z) vb | M9: cr(z)= | N9: =E3*LN(N2/F3) -> 0.70721242 | Q9: cr(z)= | R9: =E3*LN(G3/F3) -> 0.60597865
B10: cdir= | C10: 1 | G10: cr(z)= | H10: =N9 -> 0.70721242
B11: cseason= | C11: 1 | G11: c0(z)= | H11: 1 | M11: Συντελεστής Τοπογραφικής Διαμόρφωσης ct(z)
B12: vb= | C12: =C6*C10*C11 -> 27 | D12: m/sec | G12: vm(z) = | H12: =H10*H11*C12 -> 19.094735 | I12: m/sec
M13: c0= | N13: 1
B14: Πίεση Αναφοράς Ανέμου qp(z) & Ένταση στροβιλισμού lv(z) | M14: ct= | N14: 1 | O14: για Φ<0,05
B15: qp(z)=[1+7 lv(z)]1/2 ρ vm2(z) | G15: lv(z) = ki /[c0(z) ln(z/z0)] | J15: ki = | K15: 1 | M15: ct= | N15: 1+ 2sΦ | O15: για 0,05 < Φ < 0,3 | R15: με Φ = H/Lu
B16: ρ= | C16: 1.25 | D16: kg/m3 | G16: για zmin ≤ z ≤ zmax=200m | M16: ct= | N16: 1+0,6s | O16: για Φ > 0,3
B17: qp(z)= | C17: =(1+7*H17)*0.5*C16*H12^2/1000 -> 0.71370534 | D17: kN/m2 | G17: lv(z) = | H17: =K15/(H11*LN(N2/F3)) -> 0.30456101
P43: ΠΛΕΥΡΑ | Q43: ΑΝΟΙΓΜΑΤΑ (μ2)
P44: ΑΒ | Q44: 100
P45: ΒΓ | Q45: 60
P46: ΓΔ | Q46: 100
P47: ΔΑ | Q47: 60
B51: ΦΟΡΤΙΑ ΑΝΕΜΟΥ Wx+ | J51: Συντελεστές εξωτερικής πίεσης για κατακόρυφους τοίχους ορθογωνικών κτιρίων
J52: Ζώνη | K52: A | M52: B | O52: C | Q52: D | S52: E
B53: b= | C53: 40 | D53: e= | E53: =MIN(C53,C55*2) -> 16 | J53: d/h | K53: cpe,10 | L53: cpe,1 | M53: cpe,10 | N53: cpe,1 | O53: cpe,10 | P53: cpe,1 | Q53: cpe,10 | R53: cpe,1 | S53: cpe,10 | T53: cpe,1
B54: d= | C54: 25 | D54: e/5= | E54: =E53/5 -> 3.2 | J54: 5 | K54: -1.2 | L54: -1.4 | M54: -0.8 | N54: -1.1 | O54: -0.5 | Q54: 0.8 | R54: 1 | S54: -0.7
B55: h= | C55: 8 | J55: 1 | K55: -1.2 | L55: -1.4 | M55: -0.8 | N55: -1.1 | O55: -0.5 | Q55: 0.8 | R55: 1 | S55: -0.5
J56: ≤0,25 | K56: -1.2 | L56: -1.4 | M56: -0.8 | N56: -1.1 | O56: -0.5 | Q56: 0.7 | R56: 1 | S56: -0.3
B57: we=qp(z) * cpe | E57: wi=qp(z) * cpi
B58: qp(z) = | C58: =C17 -> 0.71370534 | D58: kN/m2 | E58: μ= | F58: =N66 -> 0.8125
B59: ze= | C59: =C55 -> 8 | D59: m
E60: cpi= | F60: 0.32
B61: d/h= | C61: =C54/C55 -> 3.125
D64: cpe | E64: cpi | F64: we | G64: wi | H64: w (KN/m2)
B65: ΤΟΙΧΟΙ | C65: Α | D65: =K54+(K55-K54)*((C61-J54)/(J55-J54)) -> -1.2 | E65: =F60 -> 0.32 | F65: =C58*D65 -> -0.85644641 | G65: =C58*E65 -> 0.22838571 | H65: =F65-G65 -> -1.0848321 | J65: Άνεμος πιέζει ΑΔ Επιφάνεια:
C66: B | D66: =M54+(M55-M54)*((C61-J54)/(J55-J54)) -> -0.8 | E66: =F60 -> 0.32 | F66: =C58*D66 -> -0.57096428 | G66: =C58*E66 -> 0.22838571 | H66: =F66-G66 -> -0.79934999 | J66: μΑΔ= | K66: =SUM(Q44:R46)/SUM(Q44:R47) -> 0.8125 | M66: μ= | N66: =(K66+K68)/2 -> 0.8125
C67: C | D67: =O54+(O55-O54)*((C61-J54)/(J55-J54)) -> -0.5 | E67: =F60 -> 0.32 | F67: =C58*D67 -> -0.35685267 | G67: =C58*E67 -> 0.22838571 | H67: =F67-G67 -> -0.58523838 | J67: Άνεμος πιέζει ΒΓ Επιφάνεια:
C68: D | D68: =Q54+(Q55-Q54)*((C61-J54)/(J55-J54)) -> 0.8 | E68: =F60 -> 0.32 | F68: =C58*D68 -> 0.57096428 | G68: =C58*E68 -> 0.22838571 | H68: =F68-G68 -> 0.34257857 | J68: μΒΓ= | K68: =(Q44+Q46+Q47)/SUM(Q44:R47) -> 0.8125
C69: E | D69: =S54+(S55-S54)*((C61-J54)/(J55-J54)) -> -0.60625 | E69: =F60 -> 0.32 | F69: =C58*D69 -> -0.43268387 | G69: =C58*E69 -> 0.22838571 | H69: =F69-G69 -> -0.66106958
B71: Μέση τιμή πίεσης στις επιφάνειες Α, Β, C | G71: WA,B,C=
B72: =IF(C54>=E53,"Περίπτωση d>e","Περίπτωση d<e") -> Περίπτωση d>e
B73: d>e | F73: d<e
C74: Εμβαδον | D74: WA,B,C | F74: Εμβαδόν | H74: WA,B,C
B75: Α | C75: =E54*C55 -> 25.6 | D75: =(H65*C75+H66*C76+H67*C77)/C78 -> -0.75881152 | F75: Α | G75: =E54*C55 -> 25.6 | H75: =(H65*G75+H66*G76)/G77 -> -0.8358917
B76: Β | C76: =(E53-E54)*C55 -> 102.4 | F76: Β* | G76: =(C54-E54)*C55 -> 174.4
B77: C | C77: =(C54-E53)*C55 -> 72 | G77: =SUM(G75:G76) -> 200
C78: =SUM(C75:C77) -> 200
B82: ΦΟΡΤΙΑ ΑΝΕΜΟΥ Wz+ | J82: Συντελεστές εξωτερικής πίεσης για κατακόρυφους τοίχους ορθογωνικών κτιρίων
J83: Ζώνη | K83: A | M83: B | O83: C | Q83: D | S83: E
B84: b= | C84: =C54 -> 25 | D84: e= | E84: =MIN(C84,C86*2) -> 16 | J84: d/h | K84: cpe,10 | L84: cpe,1 | M84: cpe,10 | N84: cpe,1 | O84: cpe,10 | P84: cpe,1 | Q84: cpe,10 | R84: cpe,1 | S84: cpe,10 | T84: cpe,1
B85: d= | C85: =C53 -> 40 | D85: e/5= | E85: =E84/5 -> 3.2 | J85: 5 | K85: -1.2 | L85: -1.4 | M85: -0.8 | N85: -1.1 | O85: -0.5 | Q85: 0.8 | R85: 1 | S85: -0.7
B86: h= | C86: =C55 -> 8 | J86: 1 | K86: -1.2 | L86: -1.4 | M86: -0.8 | N86: -1.1 | O86: -0.5 | Q86: 0.8 | R86: 1 | S86: -0.5
J87: ≤0,25 | K87: -1.2 | L87: -1.4 | M87: -0.8 | N87: -1.1 | O87: -0.5 | Q87: 0.7 | R87: 1 | S87: -0.3
B88: we=qp(z) * cpe | F88: wi=qp(z) * cpi
B89: qp(z) = | C89: =C17 -> 0.71370534 | D89: kN/m2 | E89: μ= | F89: =N97 -> 0.6875
B90: ze= | C90: =C86 -> 8 | D90: m
E91: cpi= | F91: 0.32
B92: d/h= | C92: =C85/C86 -> 5
D95: cpe | E95: cpi | F95: we | G95: wi | H95: w (KN/m2)
B96: ΤΟΙΧΟΙ | C96: Α | D96: =K85+(K86-K85)*((C92-J85)/(J86-J85)) -> -1.2 | E96: =F91 -> 0.32 | F96: =C89*D96 -> -0.85644641 | G96: =C89*F91 -> 0.22838571 | H96: =F96-G96 -> -1.0848321 | J96: Άνεμος πιέζει ΓΔ Επιφάνεια:
C97: B | D97: =M85+(M86-M85)*((C92-J85)/(J86-J85)) -> -0.8 | E97: =F91 -> 0.32 | F97: =C89*D97 -> -0.57096428 | G97: =C89*F91 -> 0.22838571 | H97: =F97-G97 -> -0.79934999 | J97: μΓΔ= | K97: =(Q44+Q45+Q47)/SUM(Q44:R47) -> 0.6875 | M97: μ= | N97: =(K97+K99)/2 -> 0.6875
C98: C | D98: =O85+(O86-O85)*((C92-J85)/(J86-J85)) -> -0.5 | E98: =F91 -> 0.32 | F98: =C89*D98 -> -0.35685267 | G98: =C89*F91 -> 0.22838571 | H98: =F98-G98 -> -0.58523838 | J98: Άνεμος πιέζει AB Επιφάνεια:
C99: D | D99: =Q85+(Q86-Q85)*((C92-J85)/(J86-J85)) -> 0.8 | E99: =F91 -> 0.32 | F99: =C89*D99 -> 0.57096428 | G99: =C89*F91 -> 0.22838571 | H99: =F99-G99 -> 0.34257857 | J99: μΒΓ= | K99: =SUM(Q45:R47)/SUM(Q44:R47) -> 0.6875
C100: E | D100: =S85+(S86-S85)*((C92-J85)/(J86-J85)) -> -0.7 | E100: =F91 -> 0.32 | F100: =C89*D100 -> -0.49959374 | G100: =C89*F91 -> 0.22838571 | H100: =F100-G100 -> -0.72797945
B102: Μέση τιμή πίεσης στις επιφάνειες Α, Β, C | G102: WA,B,C=
B103: =IF(C85>=E84,"Περίπτωση d>e","Περίπτωση d<e") -> Περίπτωση d>e
B104: d>e | F104: d<e
C105: Εμβαδον | D105: WA,B,C | F105: Εμβαδον | H105: WA,B,C
B106: Α | C106: =E85*C86 -> 25.6 | D106: =(H96*C106+H97*C107+H98*C108)/C109 -> -0.6937216 | F106: Α | G106: =E85*C86 -> 25.6 | H106: =(H96*G106+H97*G107)/G108 -> -0.82218856
B107: Β | C107: =(E84-E85)*C86 -> 102.4 | F107: Β* | G107: =(C85-E85)*C86 -> 294.4
B108: C | C108: =(C85-E84)*C86 -> 192 | G108: =SUM(G106:G107) -> 320
C109: =SUM(C106:C108) -> 320

Sheet ΦΟΡΤΙΑ ΣΕ ΔΙΚΛΙΝΕΙΣ ΣΤΕΓΕΣ
B1: ΓΕΝΙΚΑ ΣΤΟΙΧΕΙΑ | M1: Ύψος Αναφοράς ze (m)
B2: Κατηγορια Εδαφους | E2: kr | F2: z0 (m) | G2: z(min) | M2: ze=h= | N2: =C59 -> 8 | O2: m
C3: ='ΦΟΡΤΙΑ ΣΕ ΚΑΤΑΚΟΡΥΦΟΥΣ ΤΟΙΧΟΥΣ'!C3 -> III | E3: =0.19*(F3/0.05)^0.07 -> 0.21538933 | F3: ='ΦΟΡΤΙΑ ΣΕ ΚΑΤΑΚΟΡΥΦΟΥΣ ΤΟΙΧΟΥΣ'!F3 -> 0.3 | G3: ='ΦΟΡΤΙΑ ΣΕ ΚΑΤΑΚΟΡΥΦΟΥΣ ΤΟΙΧΟΥΣ'!G3 -> 5 | J3: kr = 0,19 (z0/z0,II)0,07
B5: Θεμελιώδης τιμή Βασικής Ταχύτητας Ανέμου | M5: Συντελεστής Τραχύτητας cr(z)
B6: vref,0= | C6: ='ΦΟΡΤΙΑ ΣΕ ΚΑΤΑΚΟΡΥΦΟΥΣ ΤΟΙΧΟΥΣ'!C6 -> 27 | D6: m/sec
M7: cr(z)=kr ln(z/zo) | Q7: cr(z)=kr ln(zmin/zo)
B8: Ταχύτητα Αναφοράς Ανέμου vb & Μέση Ταχύτητα Ανέμου vm(z) | M8: για zmin ≤ z ≤ zmax=200m | Q8: για z ≤ zmin
B9: vb=cdir cseason vb,0 | G9: vm(z) = cr(z) c0(z) vb | M9: cr(z)= | N9: =E3*LN(N2/F3) -> 0.70721242 | Q9: cr(z)= | R9: =E3*LN(G3/F3) -> 0.60597865
B10: cdir= | C10: 1 | G10: cr(z)= | H10: =N9 -> 0.70721242
B11: cseason= | C11: 1 | G11: c0(z)= | H11: 1
B12: vb= | C12: =C6*C10*C11 -> 27 | D12: m/sec | G12: vm(z) = | H12: =N9*H11*C12 -> 19.094735 | M12: Συντελεστής Τοπογραφικής διαμόρφωσης ct(z)
M14: c0= | N14: 1
B15: Πίεση Αναφοράς Ανέμου qp(z) & Ένταση στροβιλισμού lv(z) | M15: ct= | N15: 1 | O15: για Φ<0,05
B16: qp(z)=[1+7 lv(z)]1/2 ρ vm2(z) | G16: lv(z) = ki /[c0(z) ln(z/z0)] | J16: ki = | K16: 1 | M16: ct= | N16: 1+ 2sΦ | O16: για 0,05 < Φ < 0,3 | R16: με Φ = H/Lu
B17: ρ= | C17: 1.25 | D17: kg/m3 | G17: για zmin ≤ z ≤ zmax=200m | M17: ct= | N17: 1+0,6s | O17: για Φ > 0,3
B18: qp(z)= | C18: =(1+7*H18)*0.5*C17*H12^2/1000 -> 0.71370534 | D18: kN/m2 | G18: lv(z) = | H18: =K16/(H11*LN(N2/F3)) -> 0.30456101
P40: ΠΛΕΥΡΑ | Q40: ΑΝΟΙΓΜΑΤΑ (μ2)
P41: ΑΒ | Q41: ='ΦΟΡΤΙΑ ΣΕ ΚΑΤΑΚΟΡΥΦΟΥΣ ΤΟΙΧΟΥΣ'!Q44:R44 -> 100
P42: ΒΓ | Q42: ='ΦΟΡΤΙΑ ΣΕ ΚΑΤΑΚΟΡΥΦΟΥΣ ΤΟΙΧΟΥΣ'!Q45:R45 -> 60
P43: ΓΔ | Q43: ='ΦΟΡΤΙΑ ΣΕ ΚΑΤΑΚΟΡΥΦΟΥΣ ΤΟΙΧΟΥΣ'!Q46:R46 -> 100
P44: ΔΑ | Q44: ='ΦΟΡΤΙΑ ΣΕ ΚΑΤΑΚΟΡΥΦΟΥΣ ΤΟΙΧΟΥΣ'!Q47:R47 -> 60
B53: ΦΟΡΤΙΑ ΑΝΕΜΟΥ | J53: Συντελεστές εξωτερικής πίεσης για δικλινείς στέγες
B55: Ζώνη για διεύθυνση ανέμου Θ=00
J56: Γωνία α0 | K56: F | M56: G | O56: H | Q56: I | S56: J
B57: b= | C57: ='ΦΟΡΤΙΑ ΣΕ ΚΑΤΑΚΟΡΥΦΟΥΣ ΤΟΙΧΟΥΣ'!C53 -> 40 | D57: e= | E57: =MIN(C57,C59*2) -> 16 | K57: cpe,10 | L57: cpe,1 | M57: cpe,10 | N57: cpe,1 | O57: cpe,10 | P57: cpe,1 | Q57: cpe,10 | R57: cpe,1 | S57: cpe,10 | T57: cpe,1
B58: d= | C58: ='ΦΟΡΤΙΑ ΣΕ ΚΑΤΑΚΟΡΥΦΟΥΣ ΤΟΙΧΟΥΣ'!C54 -> 25 | D58: e/4= | E58: =E57/4 -> 4 | G58: e/2= | H58: =E57/2 -> 8 | J58: 5 | K58: -1.7 | L58: -2.5 | M58: -1.2 | N58: -2 | O58: -0.6 | P58: -1.2 | Q58: -0.6 | S58: 0.2
B59: h= | C59: ='ΦΟΡΤΙΑ ΣΕ ΚΑΤΑΚΟΡΥΦΟΥΣ ΤΟΙΧΟΥΣ'!C55 -> 8 | D59: e/10= | E59: =E57/10 -> 1.6 | J59: 15 | K59: -0.9 | L59: -2 | M59: -0.8 | N59: -1.5 | O59: -0.3 | Q59: -0.4 | S59: -1 | T59: -1.5
K60: 0.2 | M60: 0.2 | O60: 0.2
B61: we=qp(z) * cpe | E61: wi=qp(z) * cpi | J61: 30 | K61: -0.5 | L61: -1.5 | M61: -0.5 | N61: -1.5 | O61: -0.2 | Q61: -0.4 | S61: -0.5
B62: qref = | C62: ='ΦΟΡΤΙΑ ΣΕ ΚΑΤΑΚΟΡΥΦΟΥΣ ΤΟΙΧΟΥΣ'!C58 -> 0.71370534 | E62: μ= | F62: ='ΦΟΡΤΙΑ ΣΕ ΚΑΤΑΚΟΡΥΦΟΥΣ ΤΟΙΧΟΥΣ'!N66 -> 0.8125 | K62: 0.7 | M62: 0.7 | O62: 0.4
B63: ze | C63: =C59 -> 8
E64: cpi= | F64: ='ΦΟΡΤΙΑ ΣΕ ΚΑΤΑΚΟΡΥΦΟΥΣ ΤΟΙΧΟΥΣ'!F60 -> 0.32
B66: α= | C66: 30
B68: θ=0 | D68: cpe | E68: cpi | F68: we | G68: wi | H68: w (KN/m2)
B69: ΣΤΕΓΗ | C69: F | D69: =K61 -> -0.5 | E69: 0.32 | F69: =C62*D69 -> -0.35685267 | G69: =C62*E69 -> 0.22838571 | H69: =F69-G69 -> -0.58523838
C70: G | D70: =M61 -> -0.5 | E70: 0.32 | F70: =C62*D70 -> -0.35685267 | G70: =C62*F64 -> 0.22838571 | H70: =F70-G70 -> -0.58523838
C71: H | D71: =O61 -> -0.2 | E71: 0.32 | F71: =C62*D71 -> -0.14274107 | G71: =C62*E71 -> 0.22838571 | H71: =F71-G71 -> -0.37112678
C72: I | D72: =Q61 -> -0.4 | E72: 0.32 | F72: =C62*D72 -> -0.28548214 | G72: =C62*E72 -> 0.22838571 | H72: =F72-G72 -> -0.51386785
C73: J | D73: =S61 -> -0.5 | E73: 0.32 | F73: =C62*D73 -> -0.35685267 | G73: =C62*E73 -> 0.22838571 | H73: =F73-G73 -> -0.58523838
B76: Μέση τιμή πίεσης στις επιφάνειες F,G,H,I,J wF,G,H,I,J=
C78: Εμβαδον | D78: Wmin
B79: F | C79: =E58*E59*2 -> 12.8 | D79: =(H69*C79+H70*C80+H71*C81+H72*C82+H73*C83)/C84 -> -0.46076817
B80: G | C80: =(C57-2*E58)*E59 -> 51.2
B81: H | C81: =(C58-2*E59)/2*C57 -> 436
B82: I | C82: =C81 -> 436
B83: J | C83: =E59*C57 -> 64
C84: =SUM(C79:C83) -> 1000
B94: Ζώνη για διεύθυνση ανέμου Θ=900
J95: Γωνία α0 | K95: F | M95: G | O95: H | Q95: I
B96: b= | C96: =C58 -> 25 | D96: e= | E96: =MIN(C96,C98*2) -> 16 | K96: cpe,10 | L96: cpe,1 | M96: cpe,10 | N96: cpe,1 | O96: cpe,10 | P96: cpe,1 | Q96: cpe,10 | R96: cpe,1
B97: d= | C97: =C57 -> 40 | D97: e/4= | E97: =E96/4 -> 4 | G97: e/2= | H97: =E96/2 -> 8 | J97: 5 | K97: -1.6 | L97: -2.2 | M97: -1.3 | N97: -2 | O97: -0.7 | P97: -1.2 | Q97: -0.6
B98: h= | C98: =C59 -> 8 | D98: e/10= | E98: =E96/10 -> 1.6 | J98: 15 | K98: -1.3 | L98: -2 | M98: -1.3 | N98: -2 | O98: -0.6 | P98: -1.2 | Q98: -0.5
J99: 30 | K99: -1.1 | L99: -1.5 | M99: -1.4 | N99: -2 | O99: -0.8 | P99: -1.2 | Q99: -0.5
B100: we=qp(z) * cpe | E100: wi=qp(z) * cpi
B101: qref = | C101: ='ΦΟΡΤΙΑ ΣΕ ΚΑΤΑΚΟΡΥΦΟΥΣ ΤΟΙΧΟΥΣ'!C89 -> 0.71370534 | E101: μ= | F101: ='ΦΟΡΤΙΑ ΣΕ ΚΑΤΑΚΟΡΥΦΟΥΣ ΤΟΙΧΟΥΣ'!N105 -> 0
B102: ze | C102: =C98 -> 8
E103: cpi= | F103: ='ΦΟΡΤΙΑ ΣΕ ΚΑΤΑΚΟΡΥΦΟΥΣ ΤΟΙΧΟΥΣ'!F91 -> 0.32
B105: α= | C105: 30
B107: θ=900 | D107: cpe | E107: cpi | F107: we | G107: wi | H107: w (KN/m2)
B108: ΣΤΕΓΗ | C108: F | D108: =K99 -> -1.1 | E108: 0.32 | F108: =C101*D108 -> -0.78507588 | G108: =C101*E108 -> 0.22838571 | H108: =F108-G108 -> -1.0134616
C109: G | D109: =M99 -> -1.4 | E109: 0.32 | F109: =C101*D109 -> -0.99918748 | G109: =C101*E109 -> 0.22838571 | H109: =F109-G109 -> -1.2275732
C110: H | D110: =O99 -> -0.8 | E110: 0.32 | F110: =C101*D110 -> -0.57096428 | G110: =C101*E110 -> 0.22838571 | H110: =F110-G110 -> -0.79934999
C111: I | D111: =Q99 -> -0.5 | E111: 0.32 | F111: =C101*D111 -> -0.35685267 | G111: =C101*E111 -> 0.22838571 | H111: =F111-G111 -> -0.58523838
C113: Εμβαδον | D113: W
B114: F | C114: =E97*E98*2 -> 12.8 | D114: =(H108*C114+H109*C115+H110*C116+H111*C117)/C118 -> -0.642449
B115: G | C115: =(C96-E97*2)*E98 -> 27.2
B116: H | C116: =(E96/2-E98)*C96 -> 160
B117: I | C117: =(C97-E96/2)*C96 -> 800
C118: =SUM(C114:C117) -> 1000

Sheet ΦΟΡΤΙΑ ΣΕ ΣΤΕΓΑΣΤΡΑ
C1: ΓΕΝΙΚΑ ΣΤΟΙΧΕΙΑ | N1: Ύψος Αναφοράς ze (m)
C2: Κατηγορια Εδαφους | F2: kr | G2: z0 (m) | H2: z(min) | N2: ze=h= | O2: =D35 -> 8.2 | P2: m
D3: ='ΦΟΡΤΙΑ ΣΕ ΚΑΤΑΚΟΡΥΦΟΥΣ ΤΟΙΧΟΥΣ'!C3 -> III | F3: ='ΦΟΡΤΙΑ ΣΕ ΚΑΤΑΚΟΡΥΦΟΥΣ ΤΟΙΧΟΥΣ'!E3 -> 0.21538933 | G3: ='ΦΟΡΤΙΑ ΣΕ ΚΑΤΑΚΟΡΥΦΟΥΣ ΤΟΙΧΟΥΣ'!F3 -> 0.3 | H3: ='ΦΟΡΤΙΑ ΣΕ ΚΑΤΑΚΟΡΥΦΟΥΣ ΤΟΙΧΟΥΣ'!G3 -> 5 | J3: kr = 0,19 (z0/z0,II)0,07
N4: Συντελεστής Τραχύτητας cr(z)
C5: Θεμελιωδης τιμή Βασικής Ταχύτητας Ανέμου
C6: vb,0= | D6: ='ΦΟΡΤΙΑ ΣΕ ΚΑΤΑΚΟΡΥΦΟΥΣ ΤΟΙΧΟΥΣ'!C6 -> 27 | E6: m/sec | N6: cr(z)=kr ln(z/zo) | R6: cr(z)=kr ln(zmin/zo)
N7: για zmin ≤ z ≤ zmax=200m | R7: για z ≤ zmin
C8: Ταχύτητα Αναφοράς Ανέμου vb & Μέση Ταχύτητα Ανέμου vm(z) | N8: cr(z)= | O8: =F3*LN(O2/G3) -> 0.71253095 | R8: cr(z)= | S8: =F3*LN(H3/G3) -> 0.60597865
C10: vb=cdir cseason vb,0 | H10: vm(z) = cr(z) c0(z) vb
C11: cdir= | D11: 1 | H11: cr(z)= | I11: =O8 -> 0.71253095 | N11: Συντελεστής Τοπογραφικής Διαμόρφωσης ct(z)
C12: cseason= | D12: 1 | H12: c0(z)= | I12: 1
C13: vb= | D13: =D6*D11*D12 -> 27 | E13: m/sec | H13: vm(z) = | I13: =I11*I12*D13 -> 19.238336 | J13: m/sec | N13: c0= | O13: 1
N14: ct= | O14: 1 | P14: για Φ<0,05
C15: Πίεση Αναφοράς Ανέμου qp(z) & Ένταση στροβιλισμού lv(z) | N15: ct= | O15: 1+ 2sΦ | P15: για 0,05 < Φ < 0,3 | S15: με Φ = H/Lu
C16: qp(z)=[1+7 lv(z)]1/2 ρ vm2(z) | H16: lv(z) = ki /[c0(z) ln(z/z0)] | K16: ki = | L16: 1 | N16: ct= | O16: 1+0,6s | P16: για Φ > 0,3
C17: ρ= | D17: 1.25 | E17: kg/m3 | H17: για zmin ≤ z ≤ zmax=200m
C18: qp(z)= | D18: =(1+7*I18)*0.5*D17*I13^2/1000 -> 0.72079934 | E18: kN/m2 | H18: lv(z) = | I18: =L16/(I12*LN(O2/G3)) -> 0.30228769
C23: ΦΟΡΤΙΑ ΣΕ ΔΙΚΛΗΝΗ ΣΤΕΓΑΣΤΡΑ | M23: d/5
C25: α | D25: φ | E25: cf | F25: Ζώνη Α | G25: Ζώνη Β | H25: Ζώνη Γ | I25: Ζώνη Δ | M25: Β | O25: b/10
C26: 5 | D26: max all φ | E26: 0.3 | F26: 0.6 | G26: 1.8 | H26: 1.3 | I26: 0.4
D27: min φ=0 | E27: -0.6 | F27: -0.6 | G27: -1.4 | H27: -1.4 | I27: -1.1
D28: min φ=1 | E28: -1.3 | F28: -1.3 | G28: -2 | H28: -1.8 | I28: -1.5
C29: 10 | D29: max all φ | E29: 0.4 | F29: 0.7 | G29: 1.8 | H29: 1.4 | I29: 0.4 | U29: h
D30: min φ=0 | E30: -0.7 | F30: -0.7 | G30: -1.5 | H30: -1.4 | I30: -1.4 | L30: C A | M30: D | N30: A C | P30: b
D31: min φ=1 | E31: -1.3 | F31: -1.3 | G31: -2 | H31: -1.8 | I31: -1.8 | K31: Φορά
K32: Ανέμου
C34: α= | D34: 10 | E34: (5 ή 10)
C35: h= | D35: 8.2 | E35: m | M35: Β | O35: b/10
C36: d= | D36: 22 | E36: m | F36: d/10= | G36: =D36/10 -> 2.2 | H36: m
C37: b= | D37: 30 | E37: m | F37: b/10= | G37: =D37/10 -> 3 | H37: m | L37: d/10 | M37: d | N37: d/10
F38: d/5= | G38: =D36/5 -> 4.4 | H38: m | R38: Όψη
C39: w= qp(z) * cpe
M40: Κάτοψη | R40: d
C41: qp(z)= | D41: =D18 -> 0.72079934 | E41: kN/m2
C44: =IF(D34=5,"Ισχύει η πρώτη/δεύτερη σειρά πινάκων","Ισχύει η τρίτη/τέταρτη σειρά πινάκων") -> Ισχύει η τρίτη/τέταρτη σειρά πινάκων
D46: Μέγιστη Πίεση Ανέμου | I46: Ελάχιστη Πίεση Ανέμου | N46: Ελάχιστη Πίεση Ανέμου
D47: Άδειο/Γεμάτο Στέγαστρο | I47: Άδειο Στέγαστρο | N47: Γεμάτο Στέγαστρο
C49: α=5 | E49: cpe | F49: w (KN/m2) | H49: α=5 | J49: cpe | K49: w (KN/m2) | M49: α=5 | O49: cpe | P49: w (KN/m2)
C50: ΣΤΕΓΑΣΤΡΟ max all φ | D50: Α | E50: =F26 -> 0.6 | F50: =D41*E50 -> 0.43247961 | H50: ΣΤΕΓΑΣΤΡΟ min Φ=0 | I50: Α | J50: =F27 -> -0.6 | K50: =D41*J50 -> -0.43247961 | M50: ΣΤΕΓΑΣΤΡΟ min Φ=1 | N50: Α | O50: =F28 -> -1.3 | P50: =D41*O50 -> -0.93703914
D51: B | E51: =G26 -> 1.8 | F51: =D41*E51 -> 1.2974388 | I51: B | J51: =G27 -> -1.4 | K51: =D41*J51 -> -1.0091191 | N51: B | O51: =G28 -> -2 | P51: =D41*O51 -> -1.4415987
D52: C | E52: =H26 -> 1.3 | F52: =D41*E52 -> 0.93703914 | I52: C | J52: =H27 -> -1.4 | K52: =D41*J52 -> -1.0091191 | N52: C | O52: =H28 -> -1.8 | P52: =D41*O52 -> -1.2974388
D53: D | E53: =I26 -> 0.4 | F53: =D41*E53 -> 0.28831974 | I53: D | J53: =I27 -> -1.1 | K53: =D41*J53 -> -0.79287928 | N53: D | O53: =I28 -> -1.5 | P53: =D41*O53 -> -1.081199
C55: Μέση τιμή πίεσης στις επιφάνειες A,B,C,D wA,B,CD=
D57: Εμβαδόν | E57: W | I57: Εμβαδόν | J57: W | N57: Εμβαδόν | O57: W
C58: A | D58: =(D36-2*G36-G38)*(D37-2*G37) -> 316.8 | E58: =(F50*D58+F51*D59+F52*D60+F53*D61)/D62 -> 0.64871941 | H58: A | I58: =D58 -> 316.8 | J58: =(K50*I58+K51*I59+K52*I60+K53*I61)/I62 -> -0.69773376 | M58: A | N58: =D58 -> 316.8 | O58: =(P50*N58+P51*N59+P52*N60+P53*N61)/N62 -> -1.1129142
C59: B | D59: =(D36-2*G36)*G37*2 -> 105.6 | H59: B | I59: =D59 -> 105.6 | M59: B | N59: =D59 -> 105.6
C60: C | D60: =2*D37*G36 -> 132 | H60: C | I60: =D60 -> 132 | M60: C | N60: =D60 -> 132
C61: D | D61: =(D37-2*G37)*G38 -> 105.6 | H61: D | I61: =D61 -> 105.6 | M61: D | N61: =D61 -> 105.6
D62: =SUM(D58:D61) -> 660 | I62: =SUM(I58:I61) -> 660 | N62: =SUM(N58:N61) -> 660
D64: Μέγιστη Πίεση Ανέμου | I64: Ελάχιστη Πίεση Ανέμου | N64: Ελάχιστη Πίεση Ανέμου
D65: Άδειο/Γεμάτο Στέγαστρο | I65: Άδειο Στέγαστρο | N65: Γεμάτο Στέγαστρο
C67: α=10 | E67: cpe | F67: w (KN/m2) | H67: α=10 | J67: cpe | K67: w (KN/m2) | M67: α=10 | O67: cpe | P67: w (KN/m2)
C68: ΣΤΕΓΑΣΤΡΟ max all φ | D68: Α | E68: =F29 -> 0.7 | F68: =D41*E68 -> 0.50455954 | H68: ΣΤΕΓΑΣΤΡΟ min Φ=0 | I68: Α | J68: =F30 -> -0.7 | K68: =D41*J68 -> -0.50455954 | M68: ΣΤΕΓΑΣΤΡΟ min Φ=1 | N68: Α | O68: =F31 -> -1.3 | P68: =D41*O68 -> -0.93703914
D69: B | E69: =G29 -> 1.8 | F69: =D41*E69 -> 1.2974388 | I69: B | J69: =G30 -> -1.5 | K69: =D41*J69 -> -1.081199 | N69: B | O69: =G31 -> -2 | P69: =D41*O69 -> -1.4415987
D70: C | E70: =H29 -> 1.4 | F70: =D41*E70 -> 1.0091191 | I70: C | J70: =H30 -> -1.4 | K70: =D41*J70 -> -1.0091191 | N70: C | O70: =H31 -> -1.8 | P70: =D41*O70 -> -1.2974388
D71: D | E71: =I29 -> 0.4 | F71: =D41*E71 -> 0.28831974 | I71: D | J71: =I30 -> -1.4 | K71: =D41*J71 -> -1.0091191 | N71: D | O71: =I31 -> -1.8 | P71: =D41*O71 -> -1.2974388
C73: Μέση τιμή πίεσης στις επιφάνειες A,B,C,D wA,B,CD=
D75: Εμβαδόν | E75: W | I75: Εμβαδόν | J75: W | N75: Εμβαδόν | O75: W
C76: A | D76: =D58 -> 316.8 | E76: =(F68*D76+F69*D77+F70*D78+F71*D79)/D80 -> 0.69773376 | H76: A | I76: =D76 -> 316.8 | J76: =(K68*I76+K69*I77+K70*I78+K71*I79)/I80 -> -0.77846329 | M76: A | N76: =D76 -> 316.8 | O76: =(P68*N76+P69*N77+P70*N78+P71*N79)/N80 -> -1.1475126
C77: B | D77: =D59 -> 105.6 | H77: B | I77: =D77 -> 105.6 | M77: B | N77: =D77 -> 105.6
C78: C | D78: =D60 -> 132 | H78: C | I78: =D78 -> 132 | M78: C | N78: =D78 -> 132
C79: D | D79: =D61 -> 105.6 | H79: D | I79: =D79 -> 105.6 | M79: D | N79: =D79 -> 105.6
D80: =SUM(D76:D79) -> 660 | I80: =SUM(I76:I79) -> 660 | N80: =SUM(N76:N79) -> 660
